BEGIN:VCALENDAR
VERSION:2.0
PRODID:-//BITEC
CALSCALE:GREGORIAN
METHOD:PUBLISH
X-WR-CALNAME:BITEC
X-ORIGINAL-URL:https://bitec.edu.pe/Events/secretariado/
X-WR-CALDESC:SECRETARIADO EJECUTIVO
BEGIN:VEVENT
DTSTART:20160619T093000
DTEND:20160619T120000
SUMMARY:SECRETARIADO EJECUTIVO
DESCRIPTION:At vero eos et accusamus et iusto odio dignissimos ducimus qui blanditiis praesentium voluptatum deleniti atque corrupti quos dolores et quas molestias.
LOCATION:Bentley Campus, Perth, WA
END:VEVENT
END:VCALENDAR
